Workbook

Sheet INVERSION INICIAL
A1: INVERSION INICIAL
A2: NOMBRE DEL PROYECTO | D2: XXXXX
A3: Cantidad | B3: Producto o Servicio requerido | C3: Precio Unitario | D3: Total | E3: IVA | F3: Total con IVA
A4: RECURSOS INVERSIÓN EN ACTIVOS TANGIBLES corresponden a aquellos que debes adquirir para la operación de tu proyecto, como infraestructura, mobiliario, herramientas, maquinaria y equipo
D5: =+A5*C5 -> 0 | E5: =+D5*16% -> 0 | F5: =+E5+D5 -> 0
D6: =+A6*C6 -> 0 | E6: =+D6*16% -> 0 | F6: =+E6+D6 -> 0
D7: =+A7*C7 -> 0 | E7: =+D7*16% -> 0 | F7: =+E7+D7 -> 0
D8: =+A8*C8 -> 0 | E8: =+D8*16% -> 0 | F8: =+E8+D8 -> 0
D9: =+A9*C9 -> 0 | E9: =+D9*16% -> 0 | F9: =+E9+D9 -> 0
D10: =+A10*C10 -> 0 | E10: =+D10*16% -> 0 | F10: =+E10+D10 -> 0
D11: =+A11*C11 -> 0 | E11: =+D11*16% -> 0 | F11: =+E11+D11 -> 0
D12: =+A12*C12 -> 0 | E12: =+D12*16% -> 0 | F12: =+E12+D12 -> 0
D13: =+A13*C13 -> 0 | E13: =+D13*16% -> 0 | F13: =+E13+D13 -> 0
D14: =+A14*C14 -> 0 | E14: =+D14*16% -> 0 | F14: =+E14+D14 -> 0
D15: =+A15*C15 -> 0 | E15: =+D15*16% -> 0 | F15: =+E15+D15 -> 0
D16: =+A16*C16 -> 0 | E16: =+D16*16% -> 0 | F16: =+E16+D16 -> 0
... D26: =+A26*C26 -> 0 | E26: =+D26*16% -> 0 | F26: =+E26+D26 -> 0
E27: TOTAL | F27: =SUM(F5:F26) -> 0
A28: RECURSOS INVERSIÓN EN ACTIVOS INTANGIBLES corresponden a aquellos que son necesario para la operación de tu proyecto pero que no se pueden tocar, como servicios, capacitación, certificaciones, pago de derechos por uso de patente o pago de derechos de propiedad intelectual/marca, etc.
D29: =+A29*C29 -> 0 | E29: =+D29*16% -> 0 | F29: =+E29+D29 -> 0
D30: =+A30*C30 -> 0 | E30: =+D30*16% -> 0 | F30: =+E30+D30 -> 0
D31: =+A31*C31 -> 0 | E31: =+D31*16% -> 0 | F31: =+E31+D31 -> 0
D32: =+A32*C32 -> 0 | E32: =+D32*16% -> 0 | F32: =+E32+D32 -> 0
D33: =+A33*C33 -> 0 | E33: =+D33*16% -> 0 | F33: =+E33+D33 -> 0
D34: =+A34*C34 -> 0 | E34: =+D34*16% -> 0 | F34: =+E34+D34 -> 0
D35: =+A35*C35 -> 0 | E35: =+D35*16% -> 0 | F35: =+E35+D35 -> 0
D36: =+A36*C36 -> 0 | E36: =+D36*16% -> 0 | F36: =+E36+D36 -> 0
D37: =+A37*C37 -> 0 | E37: =+D37*16% -> 0 | F37: =+E37+D37 -> 0
D38: =+A38*C38 -> 0 | E38: =+D38*16% -> 0 | F38: =+E38+D38 -> 0
E39: TOTAL | F39: =SUM(F29:F38) -> 0
A40: CAPITAL DE TRABAJO corresponden a aquellos que son necesario para la fabricación/producción de tu producto o servicio, incluyendo actividades preoperativas, como materia prima en almacen, pago de publicidad, seguros, pago de sueldos por los primeros 2 a 3 meses,
D41: =+A41*C41 -> 0 | E41: =+D41*16% -> 0 | F41: =+E41+D41 -> 0
D42: =+A42*C42 -> 0 | E42: =+D42*16% -> 0 | F42: =+E42+D42 -> 0
D43: =+A43*C43 -> 0 | E43: =+D43*16% -> 0 | F43: =+E43+D43 -> 0
D44: =+A44*C44 -> 0 | E44: =+D44*16% -> 0 | F44: =+E44+D44 -> 0
D45: =+A45*C45 -> 0 | E45: =+D45*16% -> 0 | F45: =+E45+D45 -> 0
D46: =+A46*C46 -> 0 | E46: =+D46*16% -> 0 | F46: =+E46+D46 -> 0
D47: =+A47*C47 -> 0 | E47: =+D47*16% -> 0 | F47: =+E47+D47 -> 0
D48: =+A48*C48 -> 0 | E48: =+D48*16% -> 0 | F48: =+E48+D48 -> 0
D49: =+A49*C49 -> 0 | E49: =+D49*16% -> 0 | F49: =+E49+D49 -> 0
...

Sheet 1 egresos COSTOS F Y V
A1: CAPTURA LA INFORMACIÓN EN LAS CELDAS COLOR AZUL, PUEDES CAMBIAR LOS CONCEPTOS DE ACUERDO A LO REQUERIDO POR TU PROYECTO
A2: Los costos fijos son los gastos que una empresa debe pagar independientemente de su nivel de operación. Es decir, aquellos costos mensuales, bimestrales o anuales que debe cumplir sin importar su número de ventas alcanzadas | F2: ESTIMACIÓN DE PRECIO DE VENTA PRODUCTO 1 | H2: ESTIMACIÓN DE PRECIO DE VENTA PRODUCTO 2 | J2: ESTIMACIÓN DE PRECIO DE VENTA PRODUCTO 3
A3: EJEMPLO | F3: COSTO FIJO | G3: =B18/2 -> 0 | H3: COSTO FIJO | I3: =B18/2 -> 0 | J3: COSTO FIJO | K3: 0
A4: Salarios: Sea que tu local abra, el sueldo de tus empleados los tienes que pagar | F4: COSTO VARIABLE DEL PROD 1 | G4: =C33 -> 0 | H4: COSTO VARIABLE DEL PROD 2 | I4: =C48 -> 0 | J4: COSTO VARIABLE DEL PROD 3 | K4: =C64 -> 0
A5: SALARIOS ADMINISTRACIÓN | F5: TOTAL COSTO | G5: =G3+G4 -> 0 | H5: TOTAL COSTO | I5: =I3+I4 -> 0 | J5: TOTAL COSTO VARIABLE | K5: =K3+K4 -> 0
A6: SALARIOS PRODUCCIÓN | F6: UNIDADES PRODUCIDAS POR MES | H6: UNIDADES PRODUCIDAS POR MES | J6: UNIDADES PRODUCIDAS POR MES | K6: 1
A7: SALARIOS VENTAS | F7: COSTO UNITARIO | G7: =G5/G6 -> #DIV/0! | H7: COSTO UNITARIO | I7: =I5/I6 -> #DIV/0! | J7: COSTO UNITARIO | K7: =K5/K6 -> 0
A8: Suministros: Agua, calefacción, teléfono, electricidad. Alquiler: Local, oficina, entre otros | F8: PORCENTAJE DE UTILIDAD | H8: PORCENTAJE DE UTILIDAD | J8: PORCENTAJE DE UTILIDAD | K8: 0.1
A9: AGUA | F9: PRECIO DE VENTA | G9: =G7 *(1+G8) -> #DIV/0! | H9: PRECIO DE VENTA | I9: =I7 *(1+I8) -> #DIV/0! | J9: PRECIO DE VENTA | K9: =K7 *(1+K8) -> 0
A10: LUZ
A11: GAS | F11: ESCENARIO OPTIMISTA PROD1 | G11: =(G9*G6)*G14 -> #DIV/0! | H11: ESCENARIO OPTIMISTA PROD2 | I11: =(I9*I6)*G14 -> #DIV/0! | J11: ESCENARIO OPTIMISTA PROD3 | K11: =(K9*K6)*G14 -> 0
A12: TELEFONO | F12: ESCENARIO CONSERVADOR PROD1 | G12: =(G9*G6)*G15 -> #DIV/0! | H12: ESCENARIO CONSERVADOR PROD2 | I12: =(I9*I6)*G15 -> #DIV/0! | J12: ESCENARIO CONSERVADOR PROD3 | K12: =(K9*K6)*G15 -> 0
A13: RENTA | F13: ESCENARIO PESIMISTA PROD 1 | G13: =(G9*G6)*G16 -> #DIV/0! | H13: ESCENARIO PESIMISTA PROD 2 | I13: =(I9*I6)*G16 -> #DIV/0! | J13: ESCENARIO PESIMISTA PROD 3 | K13: =(K9*K6)*G16 -> 0
A14: GASTOS FIJOS | F14: NIVEL DE VENTAS EN ESCENARIO OPTIMISTA | G14: 1 | I14: IMPORTANTE Para efecto de esta proyección, no se estan considerando impuestos, ni costos financieros, es un ejercicio sencillo y general para estandarizar la información de los proyectos que se presentan en el Concurso del Universitario Emprendedor, la información que se arroja es solo para efectos informativos/académicos
A15: Membresias | F15: NIVEL DE VENTAS EN ESCENARIO CONSERVADOR | G15: 0.75
A16: Pago de publicidad | F16: NIVEL DE VENTAS ESCENARIO PESIMISTA | G16: 0.5
A17: Total gastos fijos | B17: =B15+B16 -> 0 | F17: ANOTA EN ESTAS CELDAS EL PORCENTAJE DE VENTAS QUE ESTIMAS PARA CADA ESCENARIO
A18: TOTAL COSTOS FIJOS | B18: =B5+B6+B7+B9+B11+B12+B13+B17+B10 -> 0
A20: COSTOS VARIABLES
A21: Son aquellos que deberás pagar para producir tus productos o prestar tus servicios. Mientras mayor sea el volumen de tu producción, más costos variables deberás pagar.
A22: PRODUCTO 1
A23: NOMBRE DEL PRODUCTO | B23: Escribe en esta columna los conceptos que apliquen a cada rubro | C23: Escenario optimista, consideralo así cuando vendes todo lo que tienes capacidad de producir o incluso un poco mas | D23: Escenario conservador, consideralo cuando sales tablas, obtienes restando el %de utilidad a la capacidad de producción | E23: Escenario pesimista, sucede cuando vendes por debajo de tu escenario conservador en el cual podrias incluso perder
A24: Materia Prima, son los materiales con los que se hace tu producto, son todos aquellos que se extrae principalmente de la naturaleza y que constituyen la base de algún producto, EN EL CASO DE SERVICIOS CORRESPONDE AL COSTO POR HORA DEL ESPECIALISTA QUE SE INVOLUCRA EN LA PRESTACIÓN DEL SERVICIO | D24: =C24*$G$15 -> 0 | E24: =C24*E31 -> 0
A25: Los insumos son elementos ya procesados que ayudan a desarrollar un producto o servicio final. EN EL CASO DE SERVICIOS CORRESPONDE POR EJEMPLO AL MATERIAL QUE SE OCUPA, COMO PAPELERIA, FOLLETERIA, USO DE PROGRAMAS ESPECIALES | D25: =C25*$G$15 -> 0 | E25: =C25*E31 -> 0
A26: Mano de Obra, consideralo cuando pagas por lote, por pieza, por jornada trabajada o por proyecto. | D26: =C26*G15 -> 0 | E26: =C26*E31 -> 0
A27: Costos de distribución, que tienen que ver con cuanto cuesta hacer llegar el producto o servicio al cliente, (viáticos, gasolina, fletes, paqueteria) que cambian de acuerdo con el nivel de ventas | D27: =C27*G15 -> 0 | E27: =C27*E31 -> 0
A28: Comisiones por venta, cuando consideras pagar un porcentaje sobre las ventas a tu equipo, que probablemente ya tiene un sueldo base al que se agregan las comisiones. | D28: =C28*G15 -> 0 | E28: =C28*E31 -> 0
A29: Proveedores Externos para la producción, cuando pagas a terceros por ciertas partes del proceso, como maquila, armado, cuando subcontratas un servicio. | D29: =C29*G15 -> 0 | E29: =C29*E31 -> 0
A30: otros gastos variables | D30: =C30*G15 -> 0 | E30: =C30*E31 -> 0
A31: PORCENTAJE DE AJUSTE POR ESCENARIO | C31: =G14 -> 1 | D31: =G15 -> 0.75 | E31: =G16 -> 0.5
A33: TOTAL | C33: =C24+C25+C26+C27+C28+C29+C30 -> 0 | D33: =D24+D25+D26+D27+D28+D29+D30 -> 0 | E33: =E24+E25+E26+E27+E28+E29+E30 -> 0
B34: ESTOS COSTOS DE VENTA CORRESPONDEN A 1 SOLO PRODUCTO/SERVICIO, SI OFRECERAS MAS DE UNO, DEBES HACER EL CALCULO PARA CADA UNO
A35: COSTOS VARIABLES
A36: Son aquellos que deberás pagar para producir tus productos o prestar tus servicios. Mientras mayor sea el volumen de tu producción, más costos variables deberás pagar.
A37: PRODUCTO 2 COLOCA EL NOMBRE
A38: NOMBRE DEL PRODUCTO | B38: Escribe en esta columna los conceptos que apliquen a cada rubro | C38: Escenario optimista, consideralo así cuando vendes todo lo que tienes capacidad de producir o incluso un poco mas | D38: Escenario conservador, consideralo cuando sales tablas, obtienes restando el %de utilidad a la capacidad de producción | E38: Escenario pesimista, sucede cuando vendes por debajo de tu escenario conservador en el cual podrias incluso perder
A39: Materia Prima, son los materiales con los que se hace tu producto, son todos aquellos que se extrae principalmente de la naturaleza y que constituyen la base de algún producto, EN EL CASO DE SERVICIOS CORRESPONDE AL COSTO POR HORA DEL ESPECIALISTA QUE SE INVOLUCRA EN LA PRESTACIÓN DEL SERVICIO | D39: =C39*D46 -> 0 | E39: =C39*E46 -> 0
A40: Los insumos son elementos ya procesados que ayudan a desarrollar un producto o servicio final. EN EL CASO DE SERVICIOS CORRESPONDE POR EJEMPLO AL MATERIAL QUE SE OCUPA, COMO PAPELERIA, FOLLETERIA, USO DE PROGRAMAS ESPECIALES | D40: =C40*D46 -> 0 | E40: =C40*E46 -> 0
A41: Mano de Obra, consideralo cuando pagas por lote, por pieza, por jornada trabajada o por proyecto | D41: =C41*D46 -> 0 | E41: =C41*E46 -> 0
A42: Costos de distribución, que tienen que ver con cuanto cuesta hacer llegar el producto o servicio al cliente, (viáticos, gasolina, fletes, paqueteria) que cambian de acuerdo con el nivel de ventas | D42: =C42*D46 -> 0 | E42: =C42*E46 -> 0
...

Sheet egresos
C1: Costos Fijos y Varibles: Proyecto:
B3: COSTOS FIJOS MENSUALES
B4: CONCEPTO | C4: Mes 1 | D4: Mes 2 | E4: Mes 3 | F4: Mes 4 | G4: Mes 5 | H4: Mes 6 | I4: Mes 7 | J4: Mes 8 | K4: Mes 9 | L4: Mes 10 | M4: Mes 11 | N4: Mes 12
B5: ='1 egresos COSTOS F Y V'!A5 -> SALARIOS ADMINISTRACIÓN | C5: ='1 egresos COSTOS F Y V'!B5 -> 0 | D5: =C5 -> 0 | E5: =D5 -> 0 | F5: =E5 -> 0 | G5: =F5 -> 0 | H5: =G5 -> 0 | I5: =H5 -> 0 | J5: =I5 -> 0 | K5: =J5 -> 0 | ... N5: =M5 -> 0
B6: ='1 egresos COSTOS F Y V'!A6 -> SALARIOS PRODUCCIÓN | C6: ='1 egresos COSTOS F Y V'!B6 -> 0 | D6: =C6 -> 0 | E6: =D6 -> 0 | F6: =E6 -> 0 | G6: =F6 -> 0 | H6: =G6 -> 0 | I6: =H6 -> 0 | J6: =I6 -> 0 | K6: =J6 -> 0 | ... N6: =M6 -> 0
B7: ='1 egresos COSTOS F Y V'!A7 -> SALARIOS VENTAS | C7: ='1 egresos COSTOS F Y V'!B7 -> 0 | D7: =C7 -> 0 | E7: =D7 -> 0 | F7: =E7 -> 0 | G7: =F7 -> 0 | H7: =G7 -> 0 | I7: =H7 -> 0 | J7: =I7 -> 0 | K7: =J7 -> 0 | ... N7: =M7 -> 0
B8: ='1 egresos COSTOS F Y V'!A9 -> AGUA | C8: ='1 egresos COSTOS F Y V'!B9 -> 0 | D8: =C8 -> 0 | E8: =D8 -> 0 | F8: =E8 -> 0 | G8: =F8 -> 0 | H8: =G8 -> 0 | I8: =H8 -> 0 | J8: =I8 -> 0 | K8: =J8 -> 0 | ... N8: =M8 -> 0
B9: ='1 egresos COSTOS F Y V'!A11 -> GAS | C9: ='1 egresos COSTOS F Y V'!B11 -> 0 | D9: =C9 -> 0 | E9: =D9 -> 0 | F9: =E9 -> 0 | G9: =F9 -> 0 | H9: =G9 -> 0 | I9: =H9 -> 0 | J9: =I9 -> 0 | K9: =J9 -> 0 | ... N9: =M9 -> 0
B10: ='1 egresos COSTOS F Y V'!A12 -> TELEFONO | C10: ='1 egresos COSTOS F Y V'!B12 -> 0 | D10: =C10 -> 0 | E10: =D10 -> 0 | F10: =E10 -> 0 | G10: =F10 -> 0 | H10: =G10 -> 0 | I10: =H10 -> 0 | J10: =I10 -> 0 | K10: =J10 -> 0 | ... N10: =M10 -> 0
B11: ='1 egresos COSTOS F Y V'!A13 -> RENTA | C11: ='1 egresos COSTOS F Y V'!B13 -> 0 | D11: =C11 -> 0 | E11: =D11 -> 0 | F11: =E11 -> 0 | G11: =F11 -> 0 | H11: =G11 -> 0 | I11: =H11 -> 0 | J11: =I11 -> 0 | K11: =J11 -> 0 | ... N11: =M11 -> 0
B12: ='1 egresos COSTOS F Y V'!A17 -> Total gastos fijos | C12: ='1 egresos COSTOS F Y V'!B17 -> 0 | D12: =C12 -> 0 | E12: =D12 -> 0 | F12: =E12 -> 0 | G12: =F12 -> 0 | H12: =G12 -> 0 | I12: =H12 -> 0 | J12: =I12 -> 0 | K12: =J12 -> 0 | ... N12: =M12 -> 0
B13: TOTAL DE COSTOS FIJOS | C13: =SUM(C5:C12) -> 0 | D13: =SUM(D5:D12) -> 0 | E13: =SUM(E5:E12) -> 0 | F13: =SUM(F5:F12) -> 0 | G13: =SUM(G5:G12) -> 0 | H13: =SUM(H5:H12) -> 0 | I13: =SUM(I5:I12) -> 0 | J13: =SUM(J5:J12) -> 0 | ... N13: =SUM(N5:N12) -> 0
B14: COSTOS VARIABLES MENSUALES ESCENARIO OPTIMISTA
B15: CONCEPTO | C15: Mes 1 | D15: Mes 2 | E15: Mes 3 | F15: Mes 4 | G15: Mes 5 | H15: Mes 6 | I15: Mes 7 | J15: Mes 8 | K15: Mes 9 | L15: Mes 10 | M15: Mes 11 | N15: Mes 12 | O15: EN LA CELDA DE MES 1 SE TRASLADARA LA INFORMACIÓN DE LA PESTAÑA DE egresos COSTOS F Y V. haz el ajustes que pudieran aplicar en VARIACIÓN MENSUAL DE COSTOS, CONSIDERANDO CAMBIO EN VENTAS MES A MES
B16: VARIACIÓN MENSUAL DE COSTOS | D16: 1.2 | E16: 1 | F16: 0.5 | G16: 1 | H16: 1 | I16: 1 | J16: 0.8 | K16: 0.9 | L16: 1.2 | M16: 1.2 | N16: 1.12
B17: ='1 egresos COSTOS F Y V'!B24 -> 0 | C17: ='1 egresos COSTOS F Y V'!C24+'1 egresos COSTOS F Y V'!C39+'1 egresos COSTOS F Y V'!C55 -> 0 | D17: =C17*$D$16 -> 0 | E17: =C17*$E$16 -> 0 | F17: =C17*$F$16 -> 0 | G17: =C17*$G$16 -> 0 | H17: =C17*$H$16 -> 0 | I17: =C17/$I$16 -> 0 | J17: =C17*$J$16 -> 0 | K17: =C17*$K$16 -> 0 | L17: =C17*$L$16 -> 0 | M17: =C17*$M$16 -> 0 | N17: =C17*$N$16 -> 0
B18: ='1 egresos COSTOS F Y V'!B25 -> 0 | C18: ='1 egresos COSTOS F Y V'!C25+'1 egresos COSTOS F Y V'!C40+'1 egresos COSTOS F Y V'!C56 -> 0 | D18: =C18*$D$16 -> 0 | E18: =C18*$E$16 -> 0 | F18: =C18*$F$16 -> 0 | G18: =F18*$G$16 -> 0 | H18: =C18*$H$16 -> 0 | I18: =C18/$I$16 -> 0 | J18: =C18*$J$16 -> 0 | K18: =C18*$K$16 -> 0 | L18: =C18*$L$16 -> 0 | M18: =C18*$M$16 -> 0 | N18: =C18*$N$16 -> 0
B19: ='1 egresos COSTOS F Y V'!B26 -> 0 | C19: ='1 egresos COSTOS F Y V'!C26+'1 egresos COSTOS F Y V'!C41+'1 egresos COSTOS F Y V'!C57 -> 0 | D19: =C19*$D$16 -> 0 | E19: =C19*$E$16 -> 0 | F19: =C19*$F$16 -> 0 | G19: =F19*$G$16 -> 0 | H19: =C19*$H$16 -> 0 | I19: =C19/$I$16 -> 0 | J19: =C19*$J$16 -> 0 | K19: =C19*$K$16 -> 0 | L19: =C19*$L$16 -> 0 | M19: =C19*$M$16 -> 0 | N19: =C19*$N$16 -> 0
B20: ='1 egresos COSTOS F Y V'!B27 -> 0 | C20: ='1 egresos COSTOS F Y V'!C27+'1 egresos COSTOS F Y V'!C42+'1 egresos COSTOS F Y V'!C58 -> 0 | D20: =C20*$D$16 -> 0 | E20: =C20*$E$16 -> 0 | F20: =C20*$F$16 -> 0 | G20: =F20*$G$16 -> 0 | H20: =C20*$H$16 -> 0 | I20: =C20/$I$16 -> 0 | J20: =C20*$J$16 -> 0 | K20: =C20*$K$16 -> 0 | L20: =C20*$L$16 -> 0 | M20: =C20*$M$16 -> 0 | N20: =C20*$N$16 -> 0
B21: ='1 egresos COSTOS F Y V'!B28 -> 0 | C21: ='1 egresos COSTOS F Y V'!C28+'1 egresos COSTOS F Y V'!C43+'1 egresos COSTOS F Y V'!C59 -> 0 | D21: =C21*$D$16 -> 0 | E21: =C21*$E$16 -> 0 | F21: =C21*$F$16 -> 0 | G21: =F21*$G$16 -> 0 | H21: =C21*$H$16 -> 0 | I21: =C21/$I$16 -> 0 | J21: =C21*$J$16 -> 0 | K21: =C21*$K$16 -> 0 | L21: =C21*$L$16 -> 0 | M21: =C21*$M$16 -> 0 | N21: =C21*$N$16 -> 0
B22: ='1 egresos COSTOS F Y V'!B29 -> 0 | C22: ='1 egresos COSTOS F Y V'!C29+'1 egresos COSTOS F Y V'!C44+'1 egresos COSTOS F Y V'!C60 -> 0 | D22: =C22*$D$16 -> 0 | E22: =C22*$E$16 -> 0 | F22: =C22*$F$16 -> 0 | G22: =F22*$G$16 -> 0 | H22: =C22*$H$16 -> 0 | I22: =C22/$I$16 -> 0 | J22: =C22*$J$16 -> 0 | K22: =C22*$K$16 -> 0 | L22: =C22*$L$16 -> 0 | M22: =C22*$M$16 -> 0 | N22: =C22*$N$16 -> 0
B23: ='1 egresos COSTOS F Y V'!B30 -> 0 | C23: ='1 egresos COSTOS F Y V'!C30+'1 egresos COSTOS F Y V'!C45+'1 egresos COSTOS F Y V'!C61 -> 0 | D23: =C23*$D$16 -> 0 | E23: =C23*$E$16 -> 0 | F23: =C23*$F$16 -> 0 | G23: =F23*$G$16 -> 0 | H23: =C23*$H$16 -> 0 | I23: =C23/$I$16 -> 0 | J23: =C23*$J$16 -> 0 | K23: =C23*$K$16 -> 0 | L23: =C23*$L$16 -> 0 | M23: =C23*$M$16 -> 0 | N23: =C23*$N$16 -> 0
B24: COSTOS VARIABLES MENSUALES ESCENARIO CONSERVADOR
B25: CONCEPTO | C25: Mes 1 | D25: Mes 2 | E25: Mes 3 | F25: Mes 4 | G25: Mes 5 | H25: Mes 6 | I25: Mes 7 | J25: Mes 8 | K25: Mes 9 | L25: Mes 10 | M25: Mes 11 | N25: Mes 12
B26: VARIACIÓN MENSUAL DE COSTOS | D26: 1 | E26: 1 | F26: 1 | G26: 1 | H26: 0.8 | I26: 1 | J26: 0.8 | K26: 0.9 | L26: 1.2 | M26: 1.2 | N26: 0.95
B27: =B17 -> 0 | C27: ='1 egresos COSTOS F Y V'!D24+'1 egresos COSTOS F Y V'!D39+'1 egresos COSTOS F Y V'!D55 -> 0 | D27: =C27*$D$26 -> 0 | E27: =C27*$E$26 -> 0 | F27: =C27*$F$26 -> 0 | G27: =C27*$G$26 -> 0 | H27: =C27*$H$26 -> 0 | I27: =C27*$I$26 -> 0 | J27: =C27*$J$26 -> 0 | K27: =C27*$K$26 -> 0 | L27: =C27*$L$26 -> 0 | M27: =C27*$M$26 -> 0 | N27: =C27*$N$26 -> 0
B28: =B18 -> 0 | C28: ='1 egresos COSTOS F Y V'!D25+'1 egresos COSTOS F Y V'!D40+'1 egresos COSTOS F Y V'!D56 -> 0 | D28: =C28*$D$26 -> 0 | E28: =C28*$E$26 -> 0 | F28: =C28*$F$26 -> 0 | G28: =C28*$G$26 -> 0 | H28: =C28*$H$26 -> 0 | I28: =C28*$I$26 -> 0 | J28: =C28*$J$26 -> 0 | K28: =C28*$K$26 -> 0 | L28: =C28*$L$26 -> 0 | M28: =C28*$M$26 -> 0 | N28: =C28*$N$26 -> 0
B29: =B19 -> 0 | C29: ='1 egresos COSTOS F Y V'!D26+'1 egresos COSTOS F Y V'!D41+'1 egresos COSTOS F Y V'!D57 -> 0 | D29: =C29*$D$26 -> 0 | E29: =C29*$E$26 -> 0 | F29: =C29*$F$26 -> 0 | G29: =C29*$G$26 -> 0 | H29: =C29*$H$26 -> 0 | I29: =C29*$I$26 -> 0 | J29: =C29*$J$26 -> 0 | K29: =C29*$K$26 -> 0 | L29: =C29*$L$26 -> 0 | M29: =C29*$M$26 -> 0 | N29: =C29*$N$26 -> 0
B30: =B20 -> 0 | C30: ='1 egresos COSTOS F Y V'!D27+'1 egresos COSTOS F Y V'!D42+'1 egresos COSTOS F Y V'!D58 -> 0 | D30: =C30*$D$26 -> 0 | E30: =C30*$E$26 -> 0 | F30: =C30*$F$26 -> 0 | G30: =C30*$G$26 -> 0 | H30: =C30*$H$26 -> 0 | I30: =C30*$I$26 -> 0 | J30: =C30*$J$26 -> 0 | K30: =C30*$K$26 -> 0 | L30: =C30*$L$26 -> 0 | M30: =C30*$M$26 -> 0 | N30: =C30*$N$26 -> 0
B31: =B21 -> 0 | C31: ='1 egresos COSTOS F Y V'!D28+'1 egresos COSTOS F Y V'!D43+'1 egresos COSTOS F Y V'!D59 -> 0 | D31: =C31*$D$26 -> 0 | E31: =C31*$E$26 -> 0 | F31: =C31*$F$26 -> 0 | G31: =C31*$G$26 -> 0 | H31: =C31*$H$26 -> 0 | I31: =C31*$I$26 -> 0 | J31: =C31*$J$26 -> 0 | K31: =C31*$K$26 -> 0 | L31: =C31*$L$26 -> 0 | M31: =C31*$M$26 -> 0 | N31: =C31*$N$26 -> 0
B32: =B22 -> 0 | C32: ='1 egresos COSTOS F Y V'!D29+'1 egresos COSTOS F Y V'!D44+'1 egresos COSTOS F Y V'!D60 -> 0 | D32: =C32*$D$26 -> 0 | E32: =C32*$E$26 -> 0 | F32: =C32*$F$26 -> 0 | G32: =C32*$G$26 -> 0 | H32: =C32*$H$26 -> 0 | I32: =C32*$I$26 -> 0 | J32: =C32*$J$26 -> 0 | K32: =C32*$K$26 -> 0 | L32: =C32*$L$26 -> 0 | M32: =C32*$M$26 -> 0 | N32: =C32*$N$26 -> 0
B33: =B23 -> 0 | C33: ='1 egresos COSTOS F Y V'!D30+'1 egresos COSTOS F Y V'!D45+'1 egresos COSTOS F Y V'!D61 -> 0 | D33: =C33*$D$26 -> 0 | E33: =C33*$E$26 -> 0 | F33: =C33*$F$26 -> 0 | G33: =C33*$G$26 -> 0 | H33: =C33*$H$26 -> 0 | I33: =C33*$I$26 -> 0 | J33: =C33*$J$26 -> 0 | K33: =C33*$K$26 -> 0 | L33: =C33*$L$26 -> 0 | M33: =C33*$M$26 -> 0 | N33: =C33*$N$26 -> 0
B34: COSTOS VARIABLES MENSUALES ESCENARIO PESIMISTA
B35: CONCEPTO | C35: Mes 1 | D35: Mes 2 | E35: Mes 3 | F35: Mes 4 | G35: Mes 5 | H35: Mes 6 | I35: Mes 7 | J35: Mes 8 | K35: Mes 9 | L35: Mes 10 | M35: Mes 11 | N35: Mes 12
B36: VARIACIÓN MENSUAL DE COSTOS | D36: 0.8 | E36: 1 | F36: 1 | G36: 1.2 | H36: 1.5 | I36: 1 | J36: 0.8 | K36: 0.9 | L36: 1.2 | M36: 1.2 | N36: 0.8
B37: =B17 -> 0 | C37: ='1 egresos COSTOS F Y V'!E24+'1 egresos COSTOS F Y V'!E39+'1 egresos COSTOS F Y V'!E55 -> 0 | D37: =C37*$D$36 -> 0 | E37: =C37*$E$36 -> 0 | F37: =C37*$F$36 -> 0 | G37: =C37*$G$36 -> 0 | H37: =C37*$H$36 -> 0 | I37: =C37*$I$36 -> 0 | J37: =C37*$J$36 -> 0 | K37: =C37*$K$36 -> 0 | L37: =C37*$L$36 -> 0 | M37: =C37*$M$36 -> 0 | N37: =C37*$N$36 -> 0
B38: =B18 -> 0 | C38: ='1 egresos COSTOS F Y V'!E25+'1 egresos COSTOS F Y V'!E40+'1 egresos COSTOS F Y V'!E56 -> 0 | D38: =C38*$D$36 -> 0 | E38: =C38*$E$36 -> 0 | F38: =C38*$F$36 -> 0 | G38: =C38*$G$36 -> 0 | H38: =C38*$H$36 -> 0 | I38: =C38*$I$36 -> 0 | J38: =C38*$J$36 -> 0 | K38: =C38*$K$36 -> 0 | L38: =C38*$L$36 -> 0 | M38: =C38*$M$36 -> 0 | N38: =C38*$N$36 -> 0
B39: =B19 -> 0 | C39: ='1 egresos COSTOS F Y V'!E26+'1 egresos COSTOS F Y V'!E41+'1 egresos COSTOS F Y V'!E57 -> 0 | D39: =C39*$D$36 -> 0 | E39: =C39*$E$36 -> 0 | F39: =C39*$F$36 -> 0 | G39: =C39*$G$36 -> 0 | H39: =C39*$H$36 -> 0 | I39: =C39*$I$36 -> 0 | J39: =C39*$J$36 -> 0 | K39: =C39*$K$36 -> 0 | L39: =C39*$L$36 -> 0 | M39: =C39*$M$36 -> 0 | N39: =C39*$N$36 -> 0
B40: =B20 -> 0 | C40: ='1 egresos COSTOS F Y V'!E27+'1 egresos COSTOS F Y V'!E42+'1 egresos COSTOS F Y V'!E58 -> 0 | D40: =C40*$D$36 -> 0 | E40: =C40*$E$36 -> 0 | F40: =C40*$F$36 -> 0 | G40: =C40*$G$36 -> 0 | H40: =C40*$H$36 -> 0 | I40: =C40*$I$36 -> 0 | J40: =C40*$J$36 -> 0 | K40: =C40*$K$36 -> 0 | L40: =C40*$L$36 -> 0 | M40: =C40*$M$36 -> 0 | N40: =C40*$N$36 -> 0
B41: =B21 -> 0 | C41: ='1 egresos COSTOS F Y V'!E28+'1 egresos COSTOS F Y V'!E43+'1 egresos COSTOS F Y V'!E59 -> 0 | D41: =C41*$D$36 -> 0 | E41: =C41*$E$36 -> 0 | F41: =C41*$F$36 -> 0 | G41: =C41*$G$36 -> 0 | H41: =C41*$H$36 -> 0 | I41: =C41*$I$36 -> 0 | J41: =C41*$J$36 -> 0 | K41: =C41*$K$36 -> 0 | L41: =C41*$L$36 -> 0 | M41: =C41*$M$36 -> 0 | N41: =C41*$N$36 -> 0
...

Sheet ingresos
B3: Captura los conceptos de ingresos y las cantidades para cada mes en los siguientes rubros:
B5: VARIACIÓN MENSUAL E.OPTIMISTA | D5: =egresos!D16 -> 1.2 | E5: =egresos!E16 -> 1 | F5: =egresos!F16 -> 0.5 | G5: =egresos!G16 -> 1 | H5: =egresos!H16 -> 1 | I5: =egresos!I16 -> 1 | J5: =egresos!J16 -> 0.8 | K5: =egresos!K16 -> 0.9 | ... N5: =egresos!N16 -> 1.12
B6: VARIACIÓN MENSUAL E.CONSERVADOR | D6: =egresos!D26 -> 1 | E6: =egresos!E26 -> 1 | F6: =egresos!F26 -> 1 | G6: =egresos!G26 -> 1 | H6: =egresos!H26 -> 0.8 | I6: =egresos!I26 -> 1 | J6: =egresos!J26 -> 0.8 | K6: =egresos!K26 -> 0.9 | ... N6: =egresos!N26 -> 0.95
B7: VARIACIÓN MENSUAL E.PESIMISTA | D7: =egresos!D36 -> 0.8 | E7: =egresos!E36 -> 1 | F7: =egresos!F36 -> 1 | G7: =egresos!G36 -> 1.2 | H7: =egresos!H36 -> 1.5 | I7: =egresos!I36 -> 1 | J7: =egresos!J36 -> 0.8 | K7: =egresos!K36 -> 0.9 | ... N7: =egresos!N36 -> 0.8
B8: Producto 1 | C8: Mes 1 | D8: Mes 2 | E8: Mes 3 | F8: Mes 4 | G8: Mes 5 | H8: Mes 6 | I8: Mes 7 | J8: Mes 8 | K8: Mes 9 | L8: Mes 10 | M8: Mes 11 | N8: Mes 12
B9: ESCENARIO OPTIMISTA | C9: ='1 egresos COSTOS F Y V'!G11 -> #DIV/0! | D9: =C9*$D$5 -> #DIV/0! | E9: =C9*$E$5 -> #DIV/0! | F9: =C9*$F$5 -> #DIV/0! | G9: =C9*$G$5 -> #DIV/0! | H9: =C9*$H$5 -> #DIV/0! | I9: =C9*$I$5 -> #DIV/0! | J9: =C9*$J$5 -> #DIV/0! | K9: =C9*$K$5 -> #DIV/0! | L9: =C9*$L$5 -> #DIV/0! | M9: =C9*$M$5 -> #DIV/0! | N9: =C9*$N$5 -> #DIV/0!
B10: ESCENARIO CONSERVADOR | C10: ='1 egresos COSTOS F Y V'!G12 -> #DIV/0! | D10: =C10*$D$6 -> #DIV/0! | E10: =C10*$E$6 -> #DIV/0! | F10: =C10*$F$6 -> #DIV/0! | G10: =C10*$G$6 -> #DIV/0! | H10: =C10*$H$6 -> #DIV/0! | I10: =C10*$I$6 -> #DIV/0! | J10: =C10*$J$6 -> #DIV/0! | K10: =C10*$K$6 -> #DIV/0! | L10: =C10*$L$6 -> #DIV/0! | M10: =C10*$M$6 -> #DIV/0! | N10: =C10*$N$6 -> #DIV/0!
B11: ESCENARIO PESIMISTA | C11: ='1 egresos COSTOS F Y V'!G13 -> #DIV/0! | D11: =C11*$D$7 -> #DIV/0! | E11: =C11*$E$7 -> #DIV/0! | F11: =C11*$F$7 -> #DIV/0! | G11: =C11*$G$7 -> #DIV/0! | H11: =C11*$H$7 -> #DIV/0! | I11: =C11*$I$7 -> #DIV/0! | J11: =C11*$J$7 -> #DIV/0! | K11: =C11*$K$7 -> #DIV/0! | L11: =C11*$L$7 -> #DIV/0! | M11: =C11*$M$7 -> #DIV/0! | N11: =C11*$N$7 -> #DIV/0!
B13: Producto 2 | C13: Mes 1 | D13: Mes 2 | E13: Mes 3 | F13: Mes 4 | G13: Mes 5 | H13: Mes 6 | I13: Mes 7 | J13: Mes 8 | K13: Mes 9 | L13: Mes 10 | M13: Mes 11 | N13: Mes 12
B14: ESCENARIO OPTIMISTA | C14: ='1 egresos COSTOS F Y V'!I11 -> #DIV/0! | D14: =$C$14*$D$5 -> #DIV/0! | E14: =C14*$E$5 -> #DIV/0! | F14: =C14*$F$5 -> #DIV/0! | G14: =C14*$G$5 -> #DIV/0! | H14: =C14*$H$5 -> #DIV/0! | I14: =C14*$I$5 -> #DIV/0! | J14: =C14*$J$5 -> #DIV/0! | K14: =C14*$K$5 -> #DIV/0! | L14: =C14*$L$5 -> #DIV/0! | M14: =C14*$M$5 -> #DIV/0! | N14: =C14*$N$5 -> #DIV/0!
B15: ESCENARIO CONSERVADOR | C15: ='1 egresos COSTOS F Y V'!I12 -> #DIV/0! | D15: =$C$15*D6 -> #DIV/0! | E15: =$C$15*E6 -> #DIV/0! | F15: =$C$15*F6 -> #DIV/0! | G15: =$C$15*G6 -> #DIV/0! | H15: =$C$15*H6 -> #DIV/0! | I15: =$C$15*I6 -> #DIV/0! | J15: =$C$15*J6 -> #DIV/0! | K15: =$C$15*K6 -> #DIV/0! | ... N15: =$C$15*N6 -> #DIV/0!
B16: ESCENARIO PESIMISTA | C16: ='1 egresos COSTOS F Y V'!I13 -> #DIV/0! | D16: =$C$16*D7 -> #DIV/0! | E16: =$C$16*E7 -> #DIV/0! | F16: =$C$16*F7 -> #DIV/0! | G16: =$C$16*G7 -> #DIV/0! | H16: =$C$16*H7 -> #DIV/0! | I16: =$C$16*I7 -> #DIV/0! | J16: =$C$16*J7 -> #DIV/0! | K16: =$C$16*K7 -> #DIV/0! | ... N16: =$C$16*N7 -> #DIV/0!
B18: Producto 3 | C18: Mes 1 | D18: Mes 2 | E18: Mes 3 | F18: Mes 4 | G18: Mes 5 | H18: Mes 6 | I18: Mes 7 | J18: Mes 8 | K18: Mes 9 | L18: Mes 10 | M18: Mes 11 | N18: Mes 12
B19: ESCENARIO OPTIMISTA | C19: ='1 egresos COSTOS F Y V'!K11 -> 0 | D19: =C19*$D$5 -> 0 | E19: =C19*$E$5 -> 0 | F19: =C19*$F$5 -> 0 | G19: =C19*$G$5 -> 0 | H19: =C19*$H$5 -> 0 | I19: =C19*$I$5 -> 0 | J19: =C19*$J$5 -> 0 | K19: =C19*$K$5 -> 0 | L19: =C19*$L$5 -> 0 | M19: =C19*$M$5 -> 0 | N19: =C19*$N$5 -> 0
B20: ESCENARIO CONSERVADOR | C20: ='1 egresos COSTOS F Y V'!K12 -> 0 | D20: =$C$20*D6 -> 0 | E20: =$C$20*E6 -> 0 | F20: =$C$20*F6 -> 0 | G20: =$C$20*G6 -> 0 | H20: =$C$20*H6 -> 0 | I20: =$C$20*I6 -> 0 | J20: =$C$20*J6 -> 0 | K20: =$C$20*K6 -> 0 | ... N20: =$C$20*N6 -> 0
B21: ESCENARIO PESIMISTA | C21: ='1 egresos COSTOS F Y V'!K13 -> 0 | D21: =$C$21*D7 -> 0 | E21: =$C$21*E7 -> 0 | F21: =$C$21*F7 -> 0 | G21: =$C$21*G7 -> 0 | H21: =$C$21*H7 -> 0 | I21: =$C$21*I7 -> 0 | J21: =$C$21*J7 -> 0 | K21: =$C$21*K7 -> 0 | ... N21: =$C$21*N7 -> 0
B23: OTROS INGRESOS | C23: Mes 1 | D23: Mes 2 | E23: Mes 3 | F23: Mes 4 | G23: Mes 5 | H23: Mes 6 | I23: Mes 7 | J23: Mes 8 | K23: Mes 9 | L23: Mes 10 | M23: Mes 11 | N23: Mes 12
B24: ESCENARIO OPTIMISTA | O24: Ingresa en caso de que puedan generarse ingresos adicionales a la venta de tu produto o servicio, que no estan directamente vinculados con tu cartera de productos pero que puedes generar, como dar conferencias, capacitación, arrendamiento de maquinaria, u otros de acuerdo al rubro de tu proyecto
B25: ESCENARIO CONSERVADOR
B26: ESCENARIO PESIMISTA

Sheet escenario optimista
B3: NOMBRE DEL NEGOCIO
B5: Primer año de operación | C5: Mes 1 | D5: Mes 2 | E5: Mes 3 | F5: Mes 4 | G5: Mes 5 | H5: Mes 6 | I5: Mes 7 | J5: Mes 8 | K5: Mes 9 | L5: Mes 10 | M5: Mes 11 | N5: Mes 12
B8: Ingresos (Pesos)
B9: Ingresos por Ventas | C9: =C10+C11+C12 -> #DIV/0! | D9: =SUM(D10:D12) -> #DIV/0! | E9: =SUM(E10:E12) -> #DIV/0! | F9: =SUM(F10:F12) -> #DIV/0! | G9: =SUM(G10:G12) -> #DIV/0! | H9: =SUM(H10:H12) -> #DIV/0! | I9: =SUM(I10:I12) -> #DIV/0! | J9: =SUM(J10:J12) -> #DIV/0! | K9: =SUM(K10:K12) -> #DIV/0! | ... N9: =SUM(N10:N12) -> #DIV/0!
B10: =ingresos!B8 -> Producto 1 | C10: =+ingresos!C9 -> #DIV/0! | D10: =+ingresos!D9 -> #DIV/0! | E10: =+ingresos!E9 -> #DIV/0! | F10: =+ingresos!F9 -> #DIV/0! | G10: =+ingresos!G9 -> #DIV/0! | H10: =+ingresos!H9 -> #DIV/0! | I10: =+ingresos!I9 -> #DIV/0! | J10: =+ingresos!J9 -> #DIV/0! | ... N10: =+ingresos!N9 -> #DIV/0!
B11: =ingresos!B13 -> Producto 2 | C11: =+ingresos!C14 -> #DIV/0! | D11: =+ingresos!D14 -> #DIV/0! | E11: =+ingresos!E14 -> #DIV/0! | F11: =+ingresos!F14 -> #DIV/0! | G11: =+ingresos!G14 -> #DIV/0! | H11: =+ingresos!H14 -> #DIV/0! | I11: =+ingresos!I14 -> #DIV/0! | J11: =+ingresos!J14 -> #DIV/0! | ... N11: =+ingresos!N14 -> #DIV/0!
B12: =ingresos!B18 -> Producto 3 | C12: =+ingresos!C19 -> 0 | D12: =+ingresos!D19 -> 0 | E12: =+ingresos!E19 -> 0 | F12: =+ingresos!F19 -> 0 | G12: =+ingresos!G19 -> 0 | H12: =+ingresos!H19 -> 0 | I12: =+ingresos!I19 -> 0 | J12: =+ingresos!J19 -> 0 | ... N12: =+ingresos!N19 -> 0
B13: Otros ingresos | C13: =ingresos!C24 -> 0 | D13: =ingresos!D24 -> 0 | E13: =ingresos!E24 -> 0 | F13: =ingresos!F24 -> 0 | G13: =ingresos!G24 -> 0 | H13: =ingresos!H24 -> 0 | I13: =ingresos!I24 -> 0 | J13: =ingresos!J24 -> 0 | ... N13: =ingresos!N24 -> 0
B15: Total Ingresos (Pesos) | C15: =C9+C13 -> #DIV/0! | D15: =D9+D13 -> #DIV/0! | E15: =E9+E13 -> #DIV/0! | F15: =F9+F13 -> #DIV/0! | G15: =G9+G13 -> #DIV/0! | H15: =H9+H13 -> #DIV/0! | I15: =I9+I13 -> #DIV/0! | J15: =J9+J13 -> #DIV/0! | ... N15: =N9+N13 -> #DIV/0!
B17: Egresos (Pesos)
B18: =+egresos!B5 -> SALARIOS ADMINISTRACIÓN | C18: =+egresos!C5 -> 0 | D18: =+egresos!D5 -> 0 | E18: =+egresos!E5 -> 0 | F18: =+egresos!F5 -> 0 | G18: =+egresos!G5 -> 0 | H18: =+egresos!H5 -> 0 | I18: =+egresos!I5 -> 0 | ... N18: =+egresos!N5 -> 0
B19: =+egresos!B6 -> SALARIOS PRODUCCIÓN | C19: =+egresos!C6 -> 0 | D19: =+egresos!D6 -> 0 | E19: =+egresos!E6 -> 0 | F19: =+egresos!F6 -> 0 | G19: =+egresos!G6 -> 0 | H19: =+egresos!H6 -> 0 | I19: =+egresos!I6 -> 0 | ... N19: =+egresos!N6 -> 0
B20: =+egresos!B7 -> SALARIOS VENTAS | C20: =+egresos!C7 -> 0 | D20: =+egresos!D7 -> 0 | E20: =+egresos!E7 -> 0 | F20: =+egresos!F7 -> 0 | G20: =+egresos!G7 -> 0 | H20: =+egresos!H7 -> 0 | I20: =+egresos!I7 -> 0 | ... N20: =+egresos!N7 -> 0
B21: =+egresos!B8 -> AGUA | C21: =+egresos!C8 -> 0 | D21: =+egresos!D8 -> 0 | E21: =+egresos!E8 -> 0 | F21: =+egresos!F8 -> 0 | G21: =+egresos!G8 -> 0 | H21: =+egresos!H8 -> 0 | I21: =+egresos!I8 -> 0 | ... N21: =+egresos!N8 -> 0
B22: =+egresos!B9 -> GAS | C22: =+egresos!C9 -> 0 | D22: =+egresos!D9 -> 0 | E22: =+egresos!E9 -> 0 | F22: =+egresos!F9 -> 0 | G22: =+egresos!G9 -> 0 | H22: =+egresos!H9 -> 0 | I22: =+egresos!I9 -> 0 | ... N22: =+egresos!N9 -> 0
B23: =+egresos!B10 -> TELEFONO | C23: =+egresos!C10 -> 0 | D23: =+egresos!D10 -> 0 | E23: =+egresos!E10 -> 0 | F23: =+egresos!F10 -> 0 | G23: =+egresos!G10 -> 0 | H23: =+egresos!H10 -> 0 | I23: =+egresos!I10 -> 0 | ... N23: =+egresos!N10 -> 0
B24: =+egresos!B11 -> RENTA | C24: =+egresos!C11 -> 0 | D24: =+egresos!D11 -> 0 | E24: =+egresos!E11 -> 0 | F24: =+egresos!F11 -> 0 | G24: =+egresos!G11 -> 0 | H24: =+egresos!H11 -> 0 | I24: =+egresos!I11 -> 0 | ... N24: =+egresos!N11 -> 0
B25: =+egresos!B12 -> Total gastos fijos | C25: =+egresos!C12 -> 0 | D25: =+egresos!D12 -> 0 | E25: =+egresos!E12 -> 0 | F25: =+egresos!F12 -> 0 | G25: =+egresos!G12 -> 0 | H25: =+egresos!H12 -> 0 | I25: =+egresos!I12 -> 0 | ... N25: =+egresos!N12 -> 0
B26: =+egresos!B17 -> 0 | C26: =+egresos!C17 -> 0 | D26: =+egresos!D17 -> 0 | E26: =+egresos!E17 -> 0 | F26: =+egresos!F17 -> 0 | G26: =+egresos!G17 -> 0 | H26: =+egresos!H17 -> 0 | I26: =+egresos!I17 -> 0 | ... N26: =+egresos!N17 -> 0
B27: =+egresos!B18 -> 0 | C27: =+egresos!C18 -> 0 | D27: =+egresos!D18 -> 0 | E27: =+egresos!E18 -> 0 | F27: =+egresos!F18 -> 0 | G27: =+egresos!G18 -> 0 | H27: =+egresos!H18 -> 0 | I27: =+egresos!I18 -> 0 | ... N27: =+egresos!N18 -> 0
B28: =+egresos!B19 -> 0 | C28: =+egresos!C19 -> 0 | D28: =+egresos!D19 -> 0 | E28: =+egresos!E19 -> 0 | F28: =+egresos!F19 -> 0 | G28: =+egresos!G19 -> 0 | H28: =+egresos!H19 -> 0 | I28: =+egresos!I19 -> 0 | ... N28: =+egresos!N19 -> 0
B29: =+egresos!B20 -> 0 | C29: =+egresos!C20 -> 0 | D29: =+egresos!D20 -> 0 | E29: =+egresos!E20 -> 0 | F29: =+egresos!F20 -> 0 | G29: =+egresos!G20 -> 0 | H29: =+egresos!H20 -> 0 | I29: =+egresos!I20 -> 0 | ... N29: =+egresos!N20 -> 0
B30: =+egresos!B21 -> 0 | C30: =+egresos!C21 -> 0 | D30: =+egresos!D21 -> 0 | E30: =+egresos!E21 -> 0 | F30: =+egresos!F21 -> 0 | G30: =+egresos!G21 -> 0 | H30: =+egresos!H21 -> 0 | I30: =+egresos!I21 -> 0 | ... N30: =+egresos!N21 -> 0
B31: =+egresos!B22 -> 0 | C31: =+egresos!C22 -> 0 | D31: =+egresos!D22 -> 0 | E31: =+egresos!E22 -> 0 | F31: =+egresos!F22 -> 0 | G31: =+egresos!G22 -> 0 | H31: =+egresos!H22 -> 0 | I31: =+egresos!I22 -> 0 | ... N31: =+egresos!N22 -> 0
B32: =+egresos!B23 -> 0 | C32: =+egresos!C23 -> 0 | D32: =+egresos!D23 -> 0 | E32: =+egresos!E23 -> 0 | F32: =+egresos!F23 -> 0 | G32: =+egresos!G23 -> 0 | H32: =+egresos!H23 -> 0 | I32: =+egresos!I23 -> 0 | ... N32: =+egresos!N23 -> 0
B34: Total Egresos | C34: =SUM(C18:C32) -> 0 | D34: =SUM(D18:D32) -> 0 | E34: =SUM(E18:E32) -> 0 | F34: =SUM(F18:F32) -> 0 | G34: =SUM(G18:G32) -> 0 | H34: =SUM(H18:H32) -> 0 | I34: =SUM(I18:I32) -> 0 | J34: =SUM(J18:J32) -> 0 | ... N34: =SUM(N18:N32) -> 0
B36: Saldo de efectivo disponible | C36: =C15-C34 -> #DIV/0! | D36: =D15-D34 -> #DIV/0! | E36: =E15-E34 -> #DIV/0! | F36: =F15-F34 -> #DIV/0! | G36: =G15-G34 -> #DIV/0! | H36: =H15-H34 -> #DIV/0! | I36: =I15-I34 -> #DIV/0! | J36: =J15-J34 -> #DIV/0! | ... N36: =N15-N34 -> #DIV/0!
B38: Saldo final | C38: =C15-C34 -> #DIV/0! | D38: =C38+D36 -> #DIV/0! | E38: =D38+E36 -> #DIV/0! | F38: =E38+F36 -> #DIV/0! | G38: =F38+G36 -> #DIV/0! | H38: =G38+H36 -> #DIV/0! | I38: =H38+I36 -> #DIV/0! | J38: =I38+J36 -> #DIV/0! | K38: =J38+K36 -> #DIV/0! | ... N38: =M38+N36 -> #DIV/0!

Sheet escenario conservador
B3: NOMBRE DEL NEGOCIO
B5: Primer año de operación | C5: Mes 1 | D5: Mes 2 | E5: Mes 3 | F5: Mes 4 | G5: Mes 5 | H5: Mes 6 | I5: Mes 7 | J5: Mes 8 | K5: Mes 9 | L5: Mes 10 | M5: Mes 11 | N5: Mes 12
B8: Ingresos (Pesos)
B9: Ingresos por Ventas | C9: =SUM(C10:C13) -> #DIV/0! | D9: =SUM(D10:D12) -> #DIV/0! | E9: =SUM(E10:E12) -> #DIV/0! | F9: =SUM(F10:F12) -> #DIV/0! | G9: =SUM(G10:G12) -> #DIV/0! | H9: =SUM(H10:H12) -> #DIV/0! | I9: =SUM(I10:I12) -> #DIV/0! | J9: =SUM(J10:J12) -> #DIV/0! | K9: =SUM(K10:K12) -> #DIV/0! | ... N9: =SUM(N10:N12) -> #DIV/0!
B10: =ingresos!B8 -> Producto 1 | C10: =+ingresos!C10 -> #DIV/0! | D10: =+ingresos!D10 -> #DIV/0! | E10: =+ingresos!E10 -> #DIV/0! | F10: =+ingresos!F10 -> #DIV/0! | G10: =+ingresos!G10 -> #DIV/0! | H10: =+ingresos!H10 -> #DIV/0! | I10: =+ingresos!I10 -> #DIV/0! | J10: =+ingresos!J10 -> #DIV/0! | ... N10: =+ingresos!N10 -> #DIV/0!
B11: =ingresos!B13 -> Producto 2 | C11: =+ingresos!C15 -> #DIV/0! | D11: =+ingresos!D15 -> #DIV/0! | E11: =+ingresos!E15 -> #DIV/0! | F11: =+ingresos!F15 -> #DIV/0! | G11: =+ingresos!G15 -> #DIV/0! | H11: =+ingresos!H15 -> #DIV/0! | I11: =+ingresos!I15 -> #DIV/0! | J11: =+ingresos!J15 -> #DIV/0! | ... N11: =+ingresos!N15 -> #DIV/0!
B12: =ingresos!B18 -> Producto 3 | C12: =+ingresos!C20 -> 0 | D12: =+ingresos!D20 -> 0 | E12: =+ingresos!E20 -> 0 | F12: =+ingresos!F20 -> 0 | G12: =+ingresos!G20 -> 0 | H12: =+ingresos!H20 -> 0 | I12: =+ingresos!I20 -> 0 | J12: =+ingresos!J20 -> 0 | ... N12: =+ingresos!N20 -> 0
B13: Otros ingresos | C13: =ingresos!C25 -> 0 | D13: =ingresos!D25 -> 0 | E13: =ingresos!E25 -> 0 | F13: =ingresos!F25 -> 0 | G13: =ingresos!G25 -> 0 | H13: =ingresos!H25 -> 0 | I13: =ingresos!I25 -> 0 | J13: =ingresos!J25 -> 0 | ... N13: =ingresos!N25 -> 0
B15: Total Ingresos (Pesos) | C15: =C9+C13 -> #DIV/0! | D15: =D9+D13 -> #DIV/0! | E15: =E9+E13 -> #DIV/0! | F15: =F9+F13 -> #DIV/0! | G15: =G9+G13 -> #DIV/0! | H15: =H9+H13 -> #DIV/0! | I15: =I9+I13 -> #DIV/0! | J15: =J9+J13 -> #DIV/0! | ... N15: =N9+N13 -> #DIV/0!
B17: Egresos (Pesos)
B18: =+egresos!B5 -> SALARIOS ADMINISTRACIÓN | C18: =+egresos!C5 -> 0 | D18: =+egresos!D5 -> 0 | E18: =+egresos!E5 -> 0 | F18: =+egresos!F5 -> 0 | G18: =+egresos!G5 -> 0 | H18: =+egresos!H5 -> 0 | I18: =+egresos!I5 -> 0 | ... N18: =+egresos!N5 -> 0
B19: =+egresos!B6 -> SALARIOS PRODUCCIÓN | C19: =+egresos!C6 -> 0 | D19: =+egresos!D6 -> 0 | E19: =+egresos!E6 -> 0 | F19: =+egresos!F6 -> 0 | G19: =+egresos!G6 -> 0 | H19: =+egresos!H6 -> 0 | I19: =+egresos!I6 -> 0 | ... N19: =+egresos!N6 -> 0
B20: =+egresos!B7 -> SALARIOS VENTAS | C20: =+egresos!C7 -> 0 | D20: =+egresos!D7 -> 0 | E20: =+egresos!E7 -> 0 | F20: =+egresos!F7 -> 0 | G20: =+egresos!G7 -> 0 | H20: =+egresos!H7 -> 0 | I20: =+egresos!I7 -> 0 | ... N20: =+egresos!N7 -> 0
B21: =+egresos!B8 -> AGUA | C21: =+egresos!C8 -> 0 | D21: =+egresos!D8 -> 0 | E21: =+egresos!E8 -> 0 | F21: =+egresos!F8 -> 0 | G21: =+egresos!G8 -> 0 | H21: =+egresos!H8 -> 0 | I21: =+egresos!I8 -> 0 | ... N21: =+egresos!N8 -> 0
B22: =+egresos!B9 -> GAS | C22: =+egresos!C9 -> 0 | D22: =+egresos!D9 -> 0 | E22: =+egresos!E9 -> 0 | F22: =+egresos!F9 -> 0 | G22: =+egresos!G9 -> 0 | H22: =+egresos!H9 -> 0 | I22: =+egresos!I9 -> 0 | ... N22: =+egresos!N9 -> 0
B23: =+egresos!B10 -> TELEFONO | C23: =+egresos!C10 -> 0 | D23: =+egresos!D10 -> 0 | E23: =+egresos!E10 -> 0 | F23: =+egresos!F10 -> 0 | G23: =+egresos!G10 -> 0 | H23: =+egresos!H10 -> 0 | I23: =+egresos!I10 -> 0 | ... N23: =+egresos!N10 -> 0
B24: =+egresos!B11 -> RENTA | C24: =+egresos!C11 -> 0 | D24: =+egresos!D11 -> 0 | E24: =+egresos!E11 -> 0 | F24: =+egresos!F11 -> 0 | G24: =+egresos!G11 -> 0 | H24: =+egresos!H11 -> 0 | I24: =+egresos!I11 -> 0 | ... N24: =+egresos!N11 -> 0
B25: =+egresos!B12 -> Total gastos fijos | C25: =+egresos!C12 -> 0 | D25: =+egresos!D12 -> 0 | E25: =+egresos!E12 -> 0 | F25: =+egresos!F12 -> 0 | G25: =+egresos!G12 -> 0 | H25: =+egresos!H12 -> 0 | I25: =+egresos!I12 -> 0 | ... N25: =+egresos!N12 -> 0
B26: =+egresos!B17 -> 0 | C26: =+egresos!C27 -> 0 | D26: =C26 -> 0 | E26: =+egresos!E27 -> 0 | F26: =+egresos!F27 -> 0 | G26: =+egresos!G27 -> 0 | H26: =+egresos!H27 -> 0 | I26: =+egresos!I27 -> 0 | J26: =+egresos!J27 -> 0 | K26: =+egresos!K27 -> 0 | L26: =+egresos!L27 -> 0 | ... N26: =+egresos!N27 -> 0
B27: =+egresos!B18 -> 0 | C27: =+egresos!C28 -> 0 | D27: =+egresos!D27 -> 0 | E27: =+egresos!E28 -> 0 | F27: =+egresos!F28 -> 0 | G27: =+egresos!G28 -> 0 | H27: =+egresos!H28 -> 0 | I27: =+egresos!I28 -> 0 | J27: =+egresos!J28 -> 0 | K27: =+egresos!K28 -> 0 | L27: =+egresos!L28 -> 0 | ... N27: =+egresos!N28 -> 0
B28: =+egresos!B19 -> 0 | C28: =+egresos!C29 -> 0 | D28: =+egresos!D29 -> 0 | E28: =+egresos!E29 -> 0 | F28: =+egresos!F29 -> 0 | G28: =+egresos!G29 -> 0 | H28: =+egresos!H29 -> 0 | I28: =+egresos!I29 -> 0 | J28: =+egresos!J29 -> 0 | ... N28: =+egresos!N29 -> 0
B29: =+egresos!B20 -> 0 | C29: =+egresos!C30 -> 0 | D29: =+egresos!D30 -> 0 | E29: =+egresos!E30 -> 0 | F29: =+egresos!F30 -> 0 | G29: =+egresos!G30 -> 0 | H29: =+egresos!H30 -> 0 | I29: =+egresos!I30 -> 0 | J29: =+egresos!J30 -> 0 | ... N29: =+egresos!N30 -> 0
B30: =+egresos!B21 -> 0 | C30: =+egresos!C31 -> 0 | D30: =+egresos!D31 -> 0 | E30: =+egresos!E31 -> 0 | F30: =+egresos!F31 -> 0 | G30: =+egresos!G31 -> 0 | H30: =+egresos!H31 -> 0 | I30: =+egresos!I31 -> 0 | J30: =+egresos!J31 -> 0 | ... N30: =+egresos!N31 -> 0
B31: =+egresos!B22 -> 0 | C31: =+egresos!C32 -> 0 | D31: =+egresos!D32 -> 0 | E31: =+egresos!E32 -> 0 | F31: =+egresos!F32 -> 0 | G31: =+egresos!G32 -> 0 | H31: =+egresos!H32 -> 0 | I31: =+egresos!I32 -> 0 | J31: =+egresos!J32 -> 0 | ... N31: =+egresos!N32 -> 0
B32: =+egresos!B23 -> 0 | C32: =+egresos!C33 -> 0 | D32: =+egresos!D33 -> 0 | E32: =+egresos!E33 -> 0 | F32: =+egresos!F33 -> 0 | G32: =+egresos!G33 -> 0 | H32: =+egresos!H33 -> 0 | I32: =+egresos!I33 -> 0 | J32: =+egresos!J33 -> 0 | ... N32: =+egresos!N33 -> 0
B34: Total Egresos | C34: =SUM(C18:C32) -> 0 | D34: =SUM(D18:D32) -> 0 | E34: =SUM(E18:E32) -> 0 | F34: =SUM(F18:F32) -> 0 | G34: =SUM(G18:G32) -> 0 | H34: =SUM(H18:H32) -> 0 | I34: =SUM(I18:I32) -> 0 | J34: =SUM(J18:J32) -> 0 | ... N34: =SUM(N18:N32) -> 0
B36: Saldo de efectivo disponible | C36: =C15-C34 -> #DIV/0! | D36: =D15-D34 -> #DIV/0! | E36: =E15-E34 -> #DIV/0! | F36: =F15-F34 -> #DIV/0! | G36: =G15-G34 -> #DIV/0! | H36: =H15-H34 -> #DIV/0! | I36: =I15-I34 -> #DIV/0! | J36: =J15-J34 -> #DIV/0! | ... N36: =N15-N34 -> #DIV/0!
B38: Saldo final | C38: =C15-C34 -> #DIV/0! | D38: =C38+D36 -> #DIV/0! | E38: =D38+E36 -> #DIV/0! | F38: =E38+F36 -> #DIV/0! | G38: =F38+G36 -> #DIV/0! | H38: =G38+H36 -> #DIV/0! | I38: =H38+I36 -> #DIV/0! | J38: =I38+J36 -> #DIV/0! | K38: =J38+K36 -> #DIV/0! | ... N38: =M38+N36 -> #DIV/0!

Sheet escenario pesimista
B3: NOMBRE DEL NEGOCIO
B5: Primer año de operación | C5: Mes 1 | D5: Mes 2 | E5: Mes 3 | F5: Mes 4 | G5: Mes 5 | H5: Mes 6 | I5: Mes 7 | J5: Mes 8 | K5: Mes 9 | L5: Mes 10 | M5: Mes 11 | N5: Mes 12
B8: Ingresos (Pesos)
B9: Ingresos por Ventas | C9: =SUM(C10:C12) -> #DIV/0! | D9: =SUM(D10:D12) -> #DIV/0! | E9: =SUM(E10:E12) -> #DIV/0! | F9: =SUM(F10:F12) -> #DIV/0! | G9: =SUM(G10:G12) -> #DIV/0! | H9: =SUM(H10:H12) -> #DIV/0! | I9: =SUM(I10:I12) -> #DIV/0! | J9: =SUM(J10:J12) -> #DIV/0! | ... N9: =SUM(N10:N12) -> #DIV/0!
B10: =ingresos!B8 -> Producto 1 | C10: =+ingresos!C11 -> #DIV/0! | D10: =+ingresos!D11 -> #DIV/0! | E10: =+ingresos!E11 -> #DIV/0! | F10: =+ingresos!F11 -> #DIV/0! | G10: =+ingresos!G11 -> #DIV/0! | H10: =+ingresos!H11 -> #DIV/0! | I10: =+ingresos!I11 -> #DIV/0! | J10: =+ingresos!J11 -> #DIV/0! | ... N10: =+ingresos!N11 -> #DIV/0!
B11: =ingresos!B13 -> Producto 2 | C11: =+ingresos!C16 -> #DIV/0! | D11: =+ingresos!D16 -> #DIV/0! | E11: =+ingresos!E16 -> #DIV/0! | F11: =+ingresos!F16 -> #DIV/0! | G11: =+ingresos!G16 -> #DIV/0! | H11: =+ingresos!H16 -> #DIV/0! | I11: =+ingresos!I16 -> #DIV/0! | J11: =+ingresos!J16 -> #DIV/0! | ... N11: =+ingresos!N16 -> #DIV/0!
B12: =ingresos!B18 -> Producto 3 | C12: =+ingresos!C21 -> 0 | D12: =+ingresos!D21 -> 0 | E12: =+ingresos!E21 -> 0 | F12: =+ingresos!F21 -> 0 | G12: =+ingresos!G21 -> 0 | H12: =+ingresos!H21 -> 0 | I12: =+ingresos!I21 -> 0 | J12: =+ingresos!J21 -> 0 | ... N12: =+ingresos!N21 -> 0
B13: Otros ingresos | C13: =ingresos!C26 -> 0 | D13: =ingresos!D26 -> 0 | E13: =ingresos!E26 -> 0 | F13: =ingresos!F26 -> 0 | G13: =ingresos!G26 -> 0 | H13: =ingresos!H26 -> 0 | I13: =ingresos!I26 -> 0 | J13: =ingresos!J26 -> 0 | ... N13: =ingresos!N26 -> 0
B15: Total Ingresos (Pesos) | C15: =C9+C13 -> #DIV/0! | D15: =D9+D13 -> #DIV/0! | E15: =E9+E13 -> #DIV/0! | F15: =F9+F13 -> #DIV/0! | G15: =G9+G13 -> #DIV/0! | H15: =H9+H13 -> #DIV/0! | I15: =I9+I13 -> #DIV/0! | J15: =J9+J13 -> #DIV/0! | ... N15: =N9+N13 -> #DIV/0!
B17: Egresos (Pesos)
B18: =+egresos!B5 -> SALARIOS ADMINISTRACIÓN | C18: =+egresos!C5 -> 0 | D18: =+egresos!D5 -> 0 | E18: =+egresos!E5 -> 0 | F18: =+egresos!F5 -> 0 | G18: =+egresos!G5 -> 0 | H18: =+egresos!H5 -> 0 | I18: =+egresos!I5 -> 0 | ... N18: =+egresos!N5 -> 0
B19: =+egresos!B6 -> SALARIOS PRODUCCIÓN | C19: =+egresos!C6 -> 0 | D19: =+egresos!D6 -> 0 | E19: =+egresos!E6 -> 0 | F19: =+egresos!F6 -> 0 | G19: =+egresos!G6 -> 0 | H19: =+egresos!H6 -> 0 | I19: =+egresos!I6 -> 0 | ... N19: =+egresos!N6 -> 0
B20: =+egresos!B7 -> SALARIOS VENTAS | C20: =+egresos!C7 -> 0 | D20: =+egresos!D7 -> 0 | E20: =+egresos!E7 -> 0 | F20: =+egresos!F7 -> 0 | G20: =+egresos!G7 -> 0 | H20: =+egresos!H7 -> 0 | I20: =+egresos!I7 -> 0 | ... N20: =+egresos!N7 -> 0
B21: =+egresos!B8 -> AGUA | C21: =+egresos!C8 -> 0 | D21: =+egresos!D8 -> 0 | E21: =+egresos!E8 -> 0 | F21: =+egresos!F8 -> 0 | G21: =+egresos!G8 -> 0 | H21: =+egresos!H8 -> 0 | I21: =+egresos!I8 -> 0 | ... N21: =+egresos!N8 -> 0
B22: =+egresos!B9 -> GAS | C22: =+egresos!C9 -> 0 | D22: =+egresos!D9 -> 0 | E22: =+egresos!E9 -> 0 | F22: =+egresos!F9 -> 0 | G22: =+egresos!G9 -> 0 | H22: =+egresos!H9 -> 0 | I22: =+egresos!I9 -> 0 | ... N22: =+egresos!N9 -> 0
B23: =+egresos!B10 -> TELEFONO | C23: =+egresos!C10 -> 0 | D23: =+egresos!D10 -> 0 | E23: =+egresos!E10 -> 0 | F23: =+egresos!F10 -> 0 | G23: =+egresos!G10 -> 0 | H23: =+egresos!H10 -> 0 | I23: =+egresos!I10 -> 0 | ... N23: =+egresos!N10 -> 0
B24: =+egresos!B11 -> RENTA | C24: =+egresos!C11 -> 0 | D24: =+egresos!D11 -> 0 | E24: =+egresos!E11 -> 0 | F24: =+egresos!F11 -> 0 | G24: =+egresos!G11 -> 0 | H24: =+egresos!H11 -> 0 | I24: =+egresos!I11 -> 0 | ... N24: =+egresos!N11 -> 0
B25: =+egresos!B12 -> Total gastos fijos | C25: =+egresos!C12 -> 0 | D25: =+egresos!D12 -> 0 | E25: =+egresos!E12 -> 0 | F25: =+egresos!F12 -> 0 | G25: =+egresos!G12 -> 0 | H25: =+egresos!H12 -> 0 | I25: =+egresos!I12 -> 0 | ... N25: =+egresos!N12 -> 0
B26: =+egresos!B17 -> 0 | C26: =+egresos!C37 -> 0 | D26: =+egresos!D37 -> 0 | E26: =+egresos!E37 -> 0 | F26: =+egresos!F37 -> 0 | G26: =+egresos!G37 -> 0 | H26: =+egresos!H37 -> 0 | I26: =+egresos!I37 -> 0 | J26: =+egresos!J37 -> 0 | ... N26: =+egresos!N37 -> 0
B27: =+egresos!B18 -> 0 | C27: =+egresos!C38 -> 0 | D27: =+egresos!D38 -> 0 | E27: =+egresos!E38 -> 0 | F27: =+egresos!F38 -> 0 | G27: =+egresos!G38 -> 0 | H27: =+egresos!H38 -> 0 | I27: =+egresos!I38 -> 0 | J27: =+egresos!J38 -> 0 | ... N27: =+egresos!N38 -> 0
B28: =+egresos!B19 -> 0 | C28: =+egresos!C39 -> 0 | D28: =+egresos!D39 -> 0 | E28: =+egresos!E39 -> 0 | F28: =+egresos!F39 -> 0 | G28: =+egresos!G39 -> 0 | H28: =+egresos!H39 -> 0 | I28: =+egresos!I39 -> 0 | J28: =+egresos!J39 -> 0 | ... N28: =+egresos!N39 -> 0
B29: =+egresos!B20 -> 0 | C29: =+egresos!C40 -> 0 | D29: =+egresos!D40 -> 0 | E29: =+egresos!E40 -> 0 | F29: =+egresos!F40 -> 0 | G29: =+egresos!G40 -> 0 | H29: =+egresos!H40 -> 0 | I29: =+egresos!I40 -> 0 | J29: =+egresos!J40 -> 0 | ... N29: =+egresos!N40 -> 0
B30: =+egresos!B21 -> 0 | C30: =+egresos!C41 -> 0 | D30: =+egresos!D41 -> 0 | E30: =+egresos!E41 -> 0 | F30: =+egresos!F41 -> 0 | G30: =+egresos!G41 -> 0 | H30: =+egresos!H41 -> 0 | I30: =+egresos!I41 -> 0 | J30: =+egresos!J41 -> 0 | ... N30: =+egresos!N41 -> 0
B31: =+egresos!B22 -> 0 | C31: =+egresos!C42 -> 0 | D31: =+egresos!D42 -> 0 | E31: =+egresos!E42 -> 0 | F31: =+egresos!F42 -> 0 | G31: =+egresos!G42 -> 0 | H31: =+egresos!H42 -> 0 | I31: =+egresos!I42 -> 0 | J31: =+egresos!J42 -> 0 | ... N31: =+egresos!N42 -> 0
B32: =+egresos!B23 -> 0 | C32: =+egresos!C43 -> 0 | D32: =+egresos!D43 -> 0 | E32: =+egresos!E43 -> 0 | F32: =+egresos!F43 -> 0 | G32: =+egresos!G43 -> 0 | H32: =+egresos!H43 -> 0 | I32: =+egresos!I43 -> 0 | J32: =+egresos!J43 -> 0 | ... N32: =+egresos!N43 -> 0
B34: Total Egresos | C34: =SUM(C18:C32) -> 0 | D34: =SUM(D18:D32) -> 0 | E34: =SUM(E18:E32) -> 0 | F34: =SUM(F18:F32) -> 0 | G34: =SUM(G18:G32) -> 0 | H34: =SUM(H18:H32) -> 0 | I34: =SUM(I18:I32) -> 0 | J34: =SUM(J18:J32) -> 0 | ... N34: =SUM(N18:N32) -> 0
B36: Saldo de efectivo disponible | C36: =C15-C34 -> #DIV/0! | D36: =D15-D34 -> #DIV/0! | E36: =E15-E34 -> #DIV/0! | F36: =F15-F34 -> #DIV/0! | G36: =G15-G34 -> #DIV/0! | H36: =H15-H34 -> #DIV/0! | I36: =I15-I34 -> #DIV/0! | J36: =J15-J34 -> #DIV/0! | ... N36: =N15-N34 -> #DIV/0!
B38: Saldo final | C38: =C15-C34 -> #DIV/0! | D38: =C38+D36 -> #DIV/0! | E38: =D38+E36 -> #DIV/0! | F38: =E38+F36 -> #DIV/0! | G38: =F38+G36 -> #DIV/0! | H38: =G38+H36 -> #DIV/0! | I38: =H38+I36 -> #DIV/0! | J38: =I38+J36 -> #DIV/0! | K38: =J38+K36 -> #DIV/0! | ... N38: =M38+N36 -> #DIV/0!
